BEGIN:VCALENDAR
VERSION:2.0
PRODID:-//ChamberMaster//Event Calendar 2.0//EN
METHOD:PUBLISH
X-PUBLISHED-TTL:P3D
REFRESH-INTERVAL:P3D
CALSCALE:GREGORIAN
BEGIN:VEVENT
DTSTART:20190521T170000Z
DTEND:20190521T180000Z
X-MICROSOFT-CDO-ALLDAYEVENT:FALSE
SUMMARY:C-Town Suitcase Club - Rigs
DESCRIPTION:Travel through time and explore everyday objects from the past\, 3-5 year olds and their caregivers 10-11am May - Rigs
X-ALT-DESC;FMTTYPE=text/html:Travel through time and explore everyday objects from the past\, 3-5 year olds and their caregivers 10-11am May - Rigs
LOCATION:Chandler Museum 300 S. Chandler Village Dr. Chandler\, AZ 85226
UID:e.1561.36721
SEQUENCE:3
DTSTAMP:20260423T020955Z
URL:https://business.chandlerchamber.com/events/details/c-town-suitcase-club-rigs-36721
END:VEVENT

END:VCALENDAR
