BEGIN:VCALENDAR
VERSION:2.0
PRODID:-//ChamberMaster//Event Calendar 2.0//EN
METHOD:PUBLISH
X-PUBLISHED-TTL:P3D
REFRESH-INTERVAL:P3D
CALSCALE:GREGORIAN
BEGIN:VEVENT
DTSTART:20190315T010000Z
DTEND:20190315T030000Z
X-MICROSOFT-CDO-ALLDAYEVENT:FALSE
SUMMARY:Cabi Clothing & D'Vine Gourmet Spring Launch
DESCRIPTION:Spring is here\, and so is Cabi's Spring Collection. Join Denise McCreery\, owner of D'Vine Gourmet and Lisa O'Hearn\, Cabi Personal Stylist\, for an evening of Fun\, Friends and Fashion. Beverages and light appetizers will be waiting for you. Take a sneak peek at the Spring Collection\, LisaOHearn.cabionline.com. Feel free to invite a friend and kindly RSVP to LisaOHearn01@gmail.com. Looking forward to seeing you soon!
X-ALT-DESC;FMTTYPE=text/html:Spring is here\, and so is Cabi&#39\;s Spring Collection. Join Denise McCreery\, owner of D&#39\;Vine Gourmet and Lisa O&#39\;Hearn\, Cabi Personal Stylist\, for an evening of Fun\, Friends and Fashion. Beverages and light appetizers will be waiting for you. Take a sneak peek at the Spring Collection\, LisaOHearn.cabionline.com. Feel free to invite a friend and kindly RSVP to LisaOHearn01@gmail.com. Looking forward to seeing you soon!
LOCATION:D'Vine Gourmet 4955 S. Alma School Rd.\, Ste. 4\, Chandler\, AZ 85248
UID:e.1561.36619
SEQUENCE:3
DTSTAMP:20260423T045347Z
URL:https://business.chandlerchamber.com/events/details/cabi-clothing-d-vine-gourmet-spring-launch-36619
END:VEVENT

END:VCALENDAR
