BEGIN:VCALENDAR
VERSION:2.0
PRODID:-//ChamberMaster//Event Calendar 2.0//EN
METHOD:PUBLISH
X-PUBLISHED-TTL:P3D
REFRESH-INTERVAL:P3D
CALSCALE:GREGORIAN
BEGIN:VEVENT
DTSTART:20171216T160000Z
DTEND:20171216T200000Z
X-MICROSOFT-CDO-ALLDAYEVENT:FALSE
SUMMARY:Cabi Clothing- End of Season Sale- 50% off
DESCRIPTION:Coffee & Cabi\, End of Season Sample Sale. Every item marked to 50% off. Shop for yourself or for that special person on your gift list. Coats\, Jackets\, Sweaters\, Tops\, Pants\, Skirts Dresses\, Jewelry and Shoes. Sizes xs-xl and 2-16. Feel free to bring a friend along & Come early for best selection.
X-ALT-DESC;FMTTYPE=text/html:Coffee &amp\; Cabi\, End of Season Sample Sale. Every item marked to 50% off. Shop for yourself or for that special person on your gift list. Coats\, Jackets\, Sweaters\, Tops\, Pants\, Skirts Dresses\, Jewelry and Shoes. Sizes xs-xl and 2-16. Feel free to bring a friend along &amp\; Come early for best selection.
LOCATION:1138 North Cholla Street\, Chandler 85224 Text Lisa O'Hearn for gate code- 760-685-3759
UID:e.1561.20279
SEQUENCE:3
DTSTAMP:20260424T011756Z
URL:https://business.chandlerchamber.com/events/details/cabi-clothing-end-of-season-sale-50-off-20279
END:VEVENT

END:VCALENDAR
