BEGIN:VCALENDAR
VERSION:2.0
PRODID:-//ChamberMaster//Event Calendar 2.0//EN
METHOD:PUBLISH
X-PUBLISHED-TTL:P3D
REFRESH-INTERVAL:P3D
CALSCALE:GREGORIAN
BEGIN:VEVENT
DTSTART:20210619T160000Z
DTEND:20210619T190000Z
X-MICROSOFT-CDO-ALLDAYEVENT:FALSE
SUMMARY:Cabi End of Season Sale
DESCRIPTION:Unmarked Beauty and Cabi Stylists join forces to bring you some amazing discounts. Cabi end of season\, off the rack sale\, all items 50-75% off. Come early for best selections! Unmarked Beauty- Get your B-12 injection for only 15.00\, Botox Treatments for 9.00 & receive a COMPLIMENTARY Skincare Consultation. Looking forward to seeing you Saturday. LisaOHearn.cabionline.com https://unmarkedbeautyandwellness.com/
X-ALT-DESC;FMTTYPE=text/html:Unmarked Beauty and Cabi Stylists join forces to bring you some amazing discounts. Cabi end of season\, off the rack sale\, all items 50-75% off. Come early for best selections! Unmarked Beauty- Get your B-12 injection for only 15.00\, Botox Treatments for 9.00 &amp\; receive a COMPLIMENTARY Skincare Consultation. Looking forward to seeing you Saturday. LisaOHearn.cabionline.com https://unmarkedbeautyandwellness.com/
LOCATION:2410 S Gilbert Road #1 Chandler\, 85286
UID:e.1561.39960
SEQUENCE:3
DTSTAMP:20260420T184139Z
URL:https://business.chandlerchamber.com/events/details/cabi-end-of-season-sale-06-19-2021-39960
END:VEVENT

END:VCALENDAR
