BEGIN:VCALENDAR
VERSION:2.0
PRODID:-//ChamberMaster//Event Calendar 2.0//EN
METHOD:PUBLISH
X-PUBLISHED-TTL:P3D
REFRESH-INTERVAL:P3D
CALSCALE:GREGORIAN
BEGIN:VEVENT
DTSTART:20170916T210000Z
DTEND:20170916T230000Z
X-MICROSOFT-CDO-ALLDAYEVENT:FALSE
SUMMARY:cabi Philanthropy through Fashion
DESCRIPTION:Chandler Chamber Members- Collaborating to make a Community Difference. Smart Fit Gym\, Crossroads Orthopedic PT\, and Independent cabi Stylist Lisa O'Hearn\, join forces to raise funds for Save the Children Foundation. A percentage of sales will go directly to our Local Save the Children location. Come\, network with local business women\, be one of the first to see the newly launched Fall Collection\, learn tips and fashion trends of the season\, and help support our Local Community.
X-ALT-DESC;FMTTYPE=text/html:Chandler Chamber Members- Collaborating to make a Community Difference. Smart Fit Gym\, Crossroads Orthopedic PT\, and Independent cabi Stylist Lisa O&#39\;Hearn\, join forces to raise funds for Save the Children Foundation. A percentage of sales will go directly to our Local Save the Children location. Come\, network with local business women\, be one of the first to see the newly launched Fall Collection\, learn tips and fashion trends of the season\, and help support our Local Community.
LOCATION:610 N Alma School Rd.\, Suite 225 Chandler\, AZ 85210
UID:e.1561.19136
SEQUENCE:3
DTSTAMP:20260424T051248Z
URL:https://business.chandlerchamber.com/events/details/cabi-philanthropy-through-fashion-19136
END:VEVENT

END:VCALENDAR
