BEGIN:VCALENDAR
VERSION:2.0
PRODID:-//ChamberMaster//Event Calendar 2.0//EN
METHOD:PUBLISH
X-PUBLISHED-TTL:P3D
REFRESH-INTERVAL:P3D
CALSCALE:GREGORIAN
BEGIN:VEVENT
DTSTART:20200416T010000Z
DTEND:20200416T030000Z
X-MICROSOFT-CDO-ALLDAYEVENT:FALSE
SUMMARY:Call-Out Culture
DESCRIPTION:Call-Out Culture is all about holding each other accountable. How can publicly shaming someone also cause harm? Does being called out improve behavior? What does "canceling" someone mean in practice? Is there a way to engage in call-out culture with sincerity and without contributing to the divisiveness that tends to come with it?
X-ALT-DESC;FMTTYPE=text/html:Call-Out Culture is all about holding each other accountable. How can publicly shaming someone also cause harm? Does being called out improve behavior? What does &quot\;canceling&quot\; someone mean in practice? Is there a way to engage in call-out culture with sincerity and without contributing to the divisiveness that tends to come with it?
LOCATION:GateWay Community College-Washington Campus 108 North 40th Street\, Phoenix\, AZ 85034
UID:e.1561.38899
SEQUENCE:3
DTSTAMP:20260424T164228Z
URL:https://business.chandlerchamber.com/events/details/call-out-culture-38899
END:VEVENT

END:VCALENDAR
