BEGIN:VCALENDAR
VERSION:2.0
PRODID:-//ChamberMaster//Event Calendar 2.0//EN
METHOD:PUBLISH
X-PUBLISHED-TTL:P3D
REFRESH-INTERVAL:P3D
CALSCALE:GREGORIAN
BEGIN:VEVENT
DTSTART:20260221T220000Z
DTEND:20260222T010000Z
X-MICROSOFT-CDO-ALLDAYEVENT:FALSE
SUMMARY:Canine Stars: Stunt Dog Show
DESCRIPTION:The Canine Stars educational entertainment act features a world-class team of dog trainers and their adopted dogs from the U.S.\, Canada\, Mexico\, the Netherlands\, and South Korea. You'll be amazed by this performance that Howie Mandel called "the best animal act I have ever seen" on America's Got Talent. The non-stop action includes flying discs\, freestyle stunts\, and agility racing! These are professional dog athletes from humble beginnings. The Canines Stars Stunt Dog Show shares heartwarming rescue stories about their dogs to promote dog rescue and adoption.
X-ALT-DESC;FMTTYPE=text/html:The Canine Stars educational entertainment act features a world-class team of dog trainers and their adopted dogs from the U.S.\, Canada\, Mexico\, the Netherlands\, and South Korea. You&rsquo\;ll be amazed by this performance that Howie Mandel called &ldquo\;the best animal act I have ever seen&rdquo\; on America&rsquo\;s Got Talent. The non-stop action includes flying discs\, freestyle stunts\, and agility racing! These are professional dog athletes from humble beginnings. The Canines Stars Stunt Dog Show shares heartwarming rescue stories about their dogs to promote dog rescue and adoption.
LOCATION:Chandler Center for the Arts 250 N Arizona Ave Chandler Az 85225
UID:e.1561.51766
SEQUENCE:3
DTSTAMP:20260424T022539Z
URL:https://business.chandlerchamber.com/events/details/canine-stars-stunt-dog-show-51766
END:VEVENT

END:VCALENDAR
