BEGIN:VCALENDAR
VERSION:2.0
PRODID:-//ChamberMaster//Event Calendar 2.0//EN
METHOD:PUBLISH
X-PUBLISHED-TTL:P3D
REFRESH-INTERVAL:P3D
CALSCALE:GREGORIAN
BEGIN:VEVENT
DTSTART:20201102T170000Z
DTEND:20201102T180000Z
X-MICROSOFT-CDO-ALLDAYEVENT:FALSE
SUMMARY:Cards for Kindness
DESCRIPTION:Come gather for an hour of your time to write handwritten messages for seniors in elder care communities. It is challenging being alone during these uncertain times. Power word Postcards and Thrivent are the sponsors for this event. The first 10 participants will receive a t-shirt.
X-ALT-DESC;FMTTYPE=text/html:Come gather for an hour of your time to write handwritten messages for seniors in elder care communities. It is challenging being alone during these uncertain times. Power word Postcards and Thrivent are the sponsors for this event. The first 10 participants will receive a t-shirt.
LOCATION:4435 E. Chandler Blvd Suite 200 Phoenix AZ 85048
UID:e.1561.39300
SEQUENCE:3
DTSTAMP:20260425T020017Z
URL:https://business.chandlerchamber.com/events/details/cards-for-kindness-39300
END:VEVENT

END:VCALENDAR
