BEGIN:VCALENDAR
VERSION:2.0
PRODID:-//ChamberMaster//Event Calendar 2.0//EN
METHOD:PUBLISH
X-PUBLISHED-TTL:P3D
REFRESH-INTERVAL:P3D
CALSCALE:GREGORIAN
BEGIN:VEVENT
DTSTART:20190712T173000Z
DTEND:20190712T183000Z
X-MICROSOFT-CDO-ALLDAYEVENT:FALSE
SUMMARY:Caregiver Tips Those Living With Dementia
DESCRIPTION:Copper Creek Inn Memory Care Community presents Caregiver Tips for those caring for someone with dementia.
X-ALT-DESC;FMTTYPE=text/html:Copper Creek Inn Memory Care Community presents Caregiver Tips for those caring for someone with dementia.
LOCATION:Copper Creek Inn 2200 W Fairview St Chandler 85224
UID:e.1561.36780
SEQUENCE:3
DTSTAMP:20260422T230847Z
URL:https://business.chandlerchamber.com/events/details/caregiver-tips-those-living-with-dementia-36780
END:VEVENT

END:VCALENDAR
