BEGIN:VCALENDAR
VERSION:2.0
PRODID:-//ChamberMaster//Event Calendar 2.0//EN
METHOD:PUBLISH
X-PUBLISHED-TTL:P3D
REFRESH-INTERVAL:P3D
CALSCALE:GREGORIAN
BEGIN:VEVENT
DTSTART:20260124T170000Z
DTEND:20260124T210000Z
X-MICROSOFT-CDO-ALLDAYEVENT:FALSE
SUMMARY:Celebrate Airport Day on Jan. 24 at Chandler Municipal Airport
DESCRIPTION:Chandler Municipal Airport is bringing back Airport Day\, a celebration that brings aviation lovers\, families\, and the simply curious together for a day of discovery and fun. If you didn't know that Chandler has its own community airport\, you're not alone. Chandler Municipal Airport flies under the radar for many locals\, but it's actually very significant in the world of general aviation! Chandler Municipal Airport ranks as the 16th busiest general aviation airport in the nation\, handling more than 200\,000 operations in a year. Airport Day offers a rare glimpse behind the scenes. Visitors can get up close to a variety of aircraft on display\, from sleek single-engine planes and fascinating vintage models to modern helicopters. Throughout the day\, guests can explore aircraft exhibits\, chat with pilots and aviation professionals and learn more about other city services including Chandler Police\, Fire and the Chandler Discovery Library. The event also will feature interactive activities for kids and a lineup of local food trucks. Whether you're an aviation enthusiast\, a lifelong Chandler resident\, or simply someone looking for a unique weekend outing\, Airport Day promises an experience that's exciting\, educational\, and fun for the whole family! Bring your family and friends to Chandler Municipal Airport on Saturday\, Jan. 24\, between 10 a.m. to 2 p.m. and experience the world of aviation in Chandler. Date and Time: On Sat\, 24 Jan 2026 10:00 - Sat\, 24 Jan 2026 14:00 Category: Community | Local / Community
X-ALT-DESC;FMTTYPE=text/html:Chandler Municipal Airport is bringing back Airport Day\, a celebration that brings aviation lovers\, families\, and the simply curious together for a day of discovery and fun. If you didn&#39\;t know that Chandler has its own community airport\, you&#39\;re not alone. Chandler Municipal Airport flies under the radar for many locals\, but it&#39\;s actually very significant in the world of general aviation! Chandler Municipal Airport ranks as the 16th busiest general aviation airport in the nation\, handling more than 200\,000 operations in a year. Airport Day offers a rare glimpse behind the scenes. Visitors can get up close to a variety of aircraft on display\, from sleek single-engine planes and fascinating vintage models to modern helicopters. Throughout the day\, guests can explore aircraft exhibits\, chat with pilots and aviation professionals and learn more about other city services including Chandler Police\, Fire and the Chandler Discovery Library. The event also will feature interactive activities for kids and a lineup of local food trucks. Whether you&#39\;re an aviation enthusiast\, a lifelong Chandler resident\, or simply someone looking for a unique weekend outing\, Airport Day promises an experience that&#39\;s exciting\, educational\, and fun for the whole family! Bring your family and friends to Chandler Municipal Airport on Saturday\, Jan. 24\, between 10 a.m. to 2 p.m. and experience the world of aviation in Chandler. Date and Time: On Sat\, 24 Jan 2026 10:00 - Sat\, 24 Jan 2026 14:00 Category: Community | Local / Community
LOCATION:Chandler Municipal Airport\, 2380 South Stinson Way\, Chandler\, Arizona\, 85286\, United States
UID:e.1561.52039
SEQUENCE:3
DTSTAMP:20260424T035806Z
URL:https://business.chandlerchamber.com/events/details/celebrate-airport-day-on-jan-24-at-chandler-municipal-airport-52039
END:VEVENT

END:VCALENDAR
