BEGIN:VCALENDAR
VERSION:2.0
PRODID:-//ChamberMaster//Event Calendar 2.0//EN
METHOD:PUBLISH
X-PUBLISHED-TTL:P3D
REFRESH-INTERVAL:P3D
CALSCALE:GREGORIAN
BEGIN:VEVENT
DTSTART:20150317T150000Z
DTEND:20150317T160000Z
X-MICROSOFT-CDO-ALLDAYEVENT:FALSE
SUMMARY:CEO Roundtable - March 2015
DESCRIPTION:Join us for the CEO roundtable. Where CEO's of Chandler companies are able to discuss with Mayor Tibshraeny information regarding business.\n\n\n\n*Invite Only Event*
X-ALT-DESC;FMTTYPE=text/html:Join us for the CEO roundtable. Where CEO&#39\;s of Chandler companies&nbsp\;are able to discuss with Mayor Tibshraeny&nbsp\;information regarding business.<br />\n<br />\n*Invite Only Event*
LOCATION:Chandler Chamber of Commerce 25 S. Arizona Place Suite 201 Chandler\, AZ 85225
UID:e.1561.12484
SEQUENCE:3
DTSTAMP:20260425T224721Z
URL:https://business.chandlerchamber.com/events/details/ceo-roundtable-march-2015-03-17-2015-12484
END:VEVENT

END:VCALENDAR
