BEGIN:VCALENDAR
VERSION:2.0
PRODID:-//ChamberMaster//Event Calendar 2.0//EN
METHOD:PUBLISH
X-PUBLISHED-TTL:P3D
REFRESH-INTERVAL:P3D
CALSCALE:GREGORIAN
BEGIN:VEVENT
DTSTART:20200827T150000Z
DTEND:20200827T160000Z
X-MICROSOFT-CDO-ALLDAYEVENT:FALSE
SUMMARY:Chamber 101
DESCRIPTION:Learn more about the Chamber\, meet the Chamber staff and be the first to meet our newest members. \n\n* Thank you to our sponsor Signarama Chandler
X-ALT-DESC;FMTTYPE=text/html:<span style="color: rgb(51\, 51\, 51)\; line-height: 18.9px\; font-family: sans-serif\, Arial\, Verdana\, &quot\;Trebuchet MS&quot\;\; font-size: 13px\; background-color: rgb(255\, 255\, 255)\;">&nbsp\;Learn more about the Chamber\, meet the Chamber staff and be the first to meet our newest members.&nbsp\;</span><br />\n* Thank you to our sponsor Signarama Chandler<br />\n<br />\n<br />\n<br />\n&nbsp\;
LOCATION:Virtual Meeting
UID:e.1561.1818
SEQUENCE:3
DTSTAMP:20260424T211459Z
URL:https://business.chandlerchamber.com/events/details/chamber-101-08-27-2020-1818
END:VEVENT

END:VCALENDAR
