BEGIN:VCALENDAR
VERSION:2.0
PRODID:-//ChamberMaster//Event Calendar 2.0//EN
METHOD:PUBLISH
X-PUBLISHED-TTL:P3D
REFRESH-INTERVAL:P3D
CALSCALE:GREGORIAN
BEGIN:VEVENT
DTSTART:20240725T150000Z
DTEND:20240725T163000Z
X-MICROSOFT-CDO-ALLDAYEVENT:FALSE
SUMMARY:Chamber 101
DESCRIPTION:About Chamber 101\n\nNew to the Chamber? Been here a while & need a refresher?\n\nChamber 101\, our FREE quarterly event\, is happening on Thursday\, July 25 at ASU Innovation Center! Discover our event programming\, learn about growth opportunities\, & meet our team & your fellow members.\n\n(P.S.: Bring business cards & brochures to share with other members.)
X-ALT-DESC;FMTTYPE=text/html:<p><span style="color:#000000\;"><span style="font-size:18px\;"><span style="font-family:arial\;"><strong>About Chamber 101</strong></span></span></span></p>\n\n<p><span style="color:#000000\;"><span style="font-size:16px\;"><span style="font-family:arial\;">New to the Chamber? Been here a while &amp\; need a refresher?</span></span></span></p>\n\n<p><span style="color:#000000\;"><span style="font-size:16px\;"><span style="font-family:arial\;">Chamber 101\, our FREE quarterly event\, is happening on Thursday\, July 25 at ASU Innovation Center! Discover our event programming\, learn about growth opportunities\, &amp\; meet our team &amp\; your fellow members.</span></span></span></p>\n\n<p><span style="color:#000000\;"><span style="font-size:16px\;"><span style="font-family:arial\;">(P.S.: Bring business cards &amp\; brochures to share with other members.)</span></span></span></p>\n<!-- notionvc: b04b30cb-2e91-4514-812e-901e27fc5591 -->
LOCATION:ASU Innovation Center 249 E. Chicago St Chandler\, AZ 85225
UID:e.1561.50577
SEQUENCE:3
DTSTAMP:20260423T111248Z
URL:https://business.chandlerchamber.com/events/details/chamber-101-50577
END:VEVENT

END:VCALENDAR
