BEGIN:VCALENDAR
VERSION:2.0
PRODID:-//ChamberMaster//Event Calendar 2.0//EN
METHOD:PUBLISH
X-PUBLISHED-TTL:P3D
REFRESH-INTERVAL:P3D
CALSCALE:GREGORIAN
BEGIN:VEVENT
DTSTART:20241024T150000Z
DTEND:20241024T163000Z
X-MICROSOFT-CDO-ALLDAYEVENT:FALSE
SUMMARY:Chamber 101
DESCRIPTION:About Chamber 101\n\nNew to the Chamber? Been here a while & need a refresher?\n\nChamber 101\, our FREE quarterly event\, is happening on Thursday\, October 24th  at ASU Innovation Center! Discover our event programming\, learn about growth opportunities\, & meet our team & your fellow members.\n\n(P.S.: Bring business cards & brochures to share with other members.)
X-ALT-DESC;FMTTYPE=text/html:<p><span style="color: rgb(0\, 0\, 0)\;"><span style="font-size: 18px\;"><span style="font-family: arial\;"><strong>About Chamber 101</strong></span></span></span></p>\n\n<p><span style="color: rgb(0\, 0\, 0)\;"><span style="font-size: 16px\;"><span style="font-family: arial\;">New to the Chamber? Been here a while &amp\; need a refresher?</span></span></span></p>\n\n<p><span style="color: rgb(0\, 0\, 0)\;"><span style="font-size: 16px\;"><span style="font-family: arial\;">Chamber 101\, our FREE quarterly event\, is happening on Thursday\, October 24th&nbsp\;&nbsp\;at ASU Innovation Center! Discover our event programming\, learn about growth opportunities\, &amp\; meet our team &amp\; your fellow members.</span></span></span></p>\n\n<p><span style="color: rgb(0\, 0\, 0)\;"><span style="font-size: 16px\;"><span style="font-family: arial\;">(P.S.: Bring business cards &amp\; brochures to share with other members.)</span></span></span></p>\n
LOCATION:ASU Innovation Center 249 E. Chicago St Chandler\, AZ 85225
UID:e.1561.50605
SEQUENCE:3
DTSTAMP:20260420T065413Z
URL:https://business.chandlerchamber.com/events/details/chamber-101-50605
END:VEVENT

END:VCALENDAR
