BEGIN:VCALENDAR
VERSION:2.0
PRODID:-//ChamberMaster//Event Calendar 2.0//EN
METHOD:PUBLISH
X-PUBLISHED-TTL:P3D
REFRESH-INTERVAL:P3D
CALSCALE:GREGORIAN
BEGIN:VEVENT
DTSTART:20200326T143000Z
DTEND:20200326T160000Z
X-MICROSOFT-CDO-ALLDAYEVENT:FALSE
SUMMARY:Chamber 101- VIRTUAL
DESCRIPTION:Learn more about the Chamber\, meet the Chamber staff and be the first to meet our newest members. We encourage you to bring business cards and brochures to share and to network with other members.  Bring a door prize to promote your business.\n\nThank you to our sponsor Signarama Chandler
X-ALT-DESC;FMTTYPE=text/html:<span style="color: rgb(51\, 51\, 51)\; font-family: sans-serif\, Arial\, Verdana\, 'Trebuchet MS'\; font-size: 13px\; line-height: 18.9091px\; background-color: rgb(255\, 255\, 255)\;">&nbsp\;Learn more about the Chamber\, meet the Chamber staff and be the first to meet our newest members. We encourage you to bring business cards and brochures to share and to network with other members. &nbsp\;Bring a door prize to promote your business.<br />\nThank you to our sponsor Signarama Chandler</span><br />\n&nbsp\;
LOCATION:
UID:e.1561.1813
SEQUENCE:3
DTSTAMP:20260424T163032Z
URL:https://business.chandlerchamber.com/events/details/chamber-101-virtual-1813
END:VEVENT

END:VCALENDAR
