BEGIN:VCALENDAR
VERSION:2.0
PRODID:-//ChamberMaster//Event Calendar 2.0//EN
METHOD:PUBLISH
X-PUBLISHED-TTL:P3D
REFRESH-INTERVAL:P3D
CALSCALE:GREGORIAN
BEGIN:VEVENT
DTSTART:20210729T150000Z
DTEND:20210729T160000Z
X-MICROSOFT-CDO-ALLDAYEVENT:FALSE
SUMMARY:Chamber 101 - Virtual - July 29 2021
DESCRIPTION:Learn more about the Chamber\, meet the Chamber staff and be the first to meet our newest members.
X-ALT-DESC;FMTTYPE=text/html:<span style="color: rgb(51\, 51\, 51)\; font-family: sans-serif\, Arial\, Verdana\, 'Trebuchet MS'\; font-size: 13px\; line-height: 18.9091px\; background-color: rgb(255\, 255\, 255)\;">&nbsp\;Learn more about the Chamber\, meet the Chamber staff and be the first to meet our newest members.&nbsp\;</span>
LOCATION:Chandler Chamber of Commerce Virtual Event on Zoom -- Your Zoom information will be sent with your registration confirmation.
UID:e.1561.1829
SEQUENCE:3
DTSTAMP:20260423T112254Z
URL:https://business.chandlerchamber.com/events/details/chamber-101-virtual-july-29-2021-1829
END:VEVENT

END:VCALENDAR
