BEGIN:VCALENDAR
VERSION:2.0
PRODID:-//ChamberMaster//Event Calendar 2.0//EN
METHOD:PUBLISH
X-PUBLISHED-TTL:P3D
REFRESH-INTERVAL:P3D
CALSCALE:GREGORIAN
BEGIN:VEVENT
DTSTART:20180822T153000Z
DTEND:20180822T173000Z
X-MICROSOFT-CDO-ALLDAYEVENT:FALSE
SUMMARY:Chamber University - Business of Story 818
DESCRIPTION:Chamber University is a deep dive into business education.\nStorytelling marketing is an important piece of the brand identity puzzle.\nBet you have an important brand story to be told\, but it's not being heard. There is simply too much noise in the world to cut through. Unless you tell a better story. \n\n \n\nLearn how to clarify your brand story\, amplify your impact and simplify your life during this proven Business of Story session. In just two hours\, 30+-year brand story creation veteran will help you craft your story using his proven Story Cycle System . You'll leave with greater clarity and an excitement to immediately share your brand story with others. Plus\, you'll learn and the And\, But & Therefore process to make all of your communications connect with people and move them to action. \n\n \n\nLearn more about Park and his approach to brand and business storytelling here: https://parkhowell.com/\n\n \n\nAnd then register for this one-of-a-kind work now and get your story on!
X-ALT-DESC;FMTTYPE=text/html:Chamber University is a deep dive into business education.\n<div style="color: rgb(0\, 0\, 0)\; font-family: Calibri\, Helvetica\, Arial\, sans-serif\; font-size: 16px\;"><b style="font-size: 12pt\;">Storytelling marketing is an important piece of the brand&nbsp\;</b><b>identity</b><b style="font-size: 12pt\;">&nbsp\;</b><b>puzzle.</b>\n<div style="font-size: 10pt\;">Bet you have an important brand story to be told\, but it&#39\;s not being heard. There is simply too much noise in the world to cut through. Unless you tell a better story.&nbsp\;<br />\n&nbsp\;<br />\nLearn how to clarify your brand story\, amplify your impact and simplify your life during this proven Business of Story session. In just two hours\, 30+-year brand story creation veteran will help you craft your story using his proven Story Cycle System&trade\;. You&#39\;ll leave with greater clarity and an excitement to immediately share your brand story with others. Plus\, you&#39\;ll learn and the And\, But &amp\; Therefore process to make all of your communications connect with people and move them to action.&nbsp\;<br />\n&nbsp\;<br />\nLearn more about Park and his approach to brand and business storytelling here:&nbsp\;<a href="https://parkhowell.com/">https://parkhowell.com/</a><br />\n&nbsp\;<br />\nAnd then register for this one-of-a-kind work now and get your story on!&nbsp\;</div>\n</div>\n
LOCATION:Chandler Chamber 25 S Arizona Place\, #201 Chandler\, AZ 85225
UID:e.1561.33697
SEQUENCE:3
DTSTAMP:20260423T140044Z
URL:https://business.chandlerchamber.com/events/details/chamber-university-business-of-story-818-33697
END:VEVENT

END:VCALENDAR
