BEGIN:VCALENDAR
VERSION:2.0
PRODID:-//ChamberMaster//Event Calendar 2.0//EN
METHOD:PUBLISH
X-PUBLISHED-TTL:P3D
REFRESH-INTERVAL:P3D
CALSCALE:GREGORIAN
BEGIN:VEVENT
DTSTART:20180724T153000Z
DTEND:20180724T173000Z
X-MICROSOFT-CDO-ALLDAYEVENT:FALSE
SUMMARY:Chamber University - DISC 718
DESCRIPTION:Chamber University is a deep dive into business education.\n\n\n\nAre you a team leader or professional who wants more success with people? Do you want to increase your one-on-one communication effectiveness with peers\, subordinates\, clients and friends? Would you want to learn to influence and motivate others\, in their own personal style? Could your team function more effectively by better understanding each other?\n\n \n\n\n\nWhat You Will Learn:\n\n\n	\n	More effective team and individual communication\, with less conflict\n	\n	\n	Identify the primary behavior styles for your prospects\, staff\, peers\, friends\, and yourself\n	\n	\n	Use your DISC awareness to form tighter relationships\, build trust and likeability\n	\n	\n	Use your DISC awareness to more effectively influence and motivate others\n	\n\n\nMary Crisci\, M.A. Communication\, 15 years as a Communication Professor\, President Club award winner\, Bronze Certified Sandler Trainer who is passionate about company culture\, organizational communication\, employee satisfaction and leadership engagement. Focused on the core values of creating dynamic environments and safe places for professionals to reach their full business potential through the building blocks of success and negotiating power plays.
X-ALT-DESC;FMTTYPE=text/html:<p><span style="font-size:16px\;"><span style="font-family:arial\;">Chamber University is a deep dive into business education.</span></span></p>\n\n<p><br />\n<span style="font-size:16px\;"><span style="font-family:arial\;">Are you a team leader or professional who wants more success with people? Do you want to increase your one-on-one communication effectiveness with peers\, subordinates\, clients </span></span><span style="font-size:16px\;"><span style="font-family:arial\;">and</span></span><span style="font-family:arial\;"><span style="font-size:16px\;"> friends? Would you want to learn to influence and motivate others\, in their own personal style? Could your team function more effectively by better understanding each other?</span></span><br />\n&nbsp\;</p>\n\n<h4><br />\n<span style="font-family:arial\;"><strong><span style="font-size:12.0pt\;">What You Will Learn:</span></strong></span></h4>\n\n<ul>\n	<li style="margin-bottom:8.0pt\;background:white\;">\n	<h4><span style="font-family:arial\;"><span style="font-size:12.0pt\;">More effective team and individual communication\, with less conflict</span></span></h4>\n	</li>\n	<li style="margin-bottom:8.0pt\;background:white\;">\n	<h4><span style="font-family:arial\;"><span style="font-size:12.0pt\;">Identify the primary behavior styles for your prospects\, staff\, peers\, friends\, and yourself</span></span></h4>\n	</li>\n	<li style="margin-bottom:8.0pt\;background:white\;">\n	<h4><span style="font-family:arial\;"><span style="font-size:12.0pt\;">Use your DISC awareness to form tighter relationships\, build trust and likeability</span></span></h4>\n	</li>\n	<li style="margin-bottom:8.0pt\;background:white\;">\n	<h4><span style="font-family:arial\;"><span style="font-size:12.0pt\;">Use your DISC awareness to more effectively influence and motivate others</span></span></h4>\n	</li>\n</ul>\n\n<h4><span style="font-family:arial\;"><strong><span style="font-size:12.0pt\;">Mary Crisci</span></strong><span style="font-size:12.0pt\;">\, M.A. Communication\, 15 years as a Communication Professor\, President Club award winner\, Bronze Certified Sandler Trainer who is passionate about company culture\, organizational communication\, employee satisfaction and leadership engagement. Focused on the core values of creating dynamic environments and safe places for professionals to reach their full business potential through the building blocks of success and negotiating power plays.</span></span><br />\n&nbsp\;</h4>\n
LOCATION:Chandler Chamber 25 S Arizona Place\, #201 Chandler\, AZ 85225
UID:e.1561.33706
SEQUENCE:3
DTSTAMP:20260423T150702Z
URL:https://business.chandlerchamber.com/events/details/chamber-university-disc-718-33706
END:VEVENT

END:VCALENDAR
