BEGIN:VCALENDAR
VERSION:2.0
PRODID:-//ChamberMaster//Event Calendar 2.0//EN
METHOD:PUBLISH
X-PUBLISHED-TTL:P3D
REFRESH-INTERVAL:P3D
CALSCALE:GREGORIAN
BEGIN:VEVENT
DTSTART:20171027T003000Z
DTEND:20171027T030000Z
X-MICROSOFT-CDO-ALLDAYEVENT:FALSE
SUMMARY:Chandler 100 - October 26\, 2017
DESCRIPTION:The Chandler 100 showcases the top 100 stakeholder businesses in the city.  Chandler Mayor Jay Tibshraeny will be on hand to recognize this year's honorees and share a State of the Business Community address. \n\nPlease join us for this prestigious celebration.\n\n\n\nEnjoy great food\, fabulous music with Urban Electra\, aerialists\, and more!
X-ALT-DESC;FMTTYPE=text/html:<p><span font-size:="" helvetica="" style="color: rgb(63\, 63\, 63)\; font-family: ">The Chandler 100 showcases the top 100 stakeholder businesses in the city.&nbsp\; Chandler Mayor Jay&nbsp\;Tibshraeny&nbsp\;will be on hand to recognize this year&#39\;s honorees and share a State of the Business Community address.&nbsp\;<br />\nPlease join us for this prestigious celebration.<br />\n<br />\nEnjoy great food\, fabulous music with Urban Electra\, aerialists\, and more!</span></p>\n
LOCATION:Quantum Helicopters 2401 S Heliport Way\, Chandler\, AZ 85286
UID:e.1561.19097
SEQUENCE:3
DTSTAMP:20260424T034319Z
URL:https://business.chandlerchamber.com/events/details/chandler-100-october-26-2017-19097
END:VEVENT

END:VCALENDAR
