BEGIN:VCALENDAR
VERSION:2.0
PRODID:-//ChamberMaster//Event Calendar 2.0//EN
METHOD:PUBLISH
X-PUBLISHED-TTL:P3D
REFRESH-INTERVAL:P3D
CALSCALE:GREGORIAN
BEGIN:VEVENT
DTSTART:20221130T230000Z
DTEND:20221201T020000Z
X-MICROSOFT-CDO-ALLDAYEVENT:FALSE
SUMMARY:Chandler 100: State of the Business Community
DESCRIPTION:The Chandler Chamber of Commerce invites you to join us in honoring the 2022 Top 100 Companies that help shape Chandler! Chandler 100 is an annual event that showcases the top 100 stakeholder businesses in the city and will be held this year in a vacant office space managed by Douglas Allred Company. Come see how the Chamber transforms this location into a high-end event! \n\n\n\nThis year's event will be nothing like you have seen before featuring The Taste of Chandler \, entertainment and plenty of fun! If you are interested in participating\, see any of our team members for details.\n\n\n\nDiscover\, meet and be inspired by these amazing companies who have made Chandler their home.\n\n\n\nSponsorships still available! Contact Michelle michelle@chandlerchamber.com
X-ALT-DESC;FMTTYPE=text/html:<span style="background:white\;"><span style="font-family:arial\,sans-serif\;"><span style="font-size:10.0pt\;">The Chandler Chamber of Commerce invites you to join us in honoring the 2022 Top 100 Companies that help shape Chandler! Chandler 100 is an annual event that showcases the top 100 stakeholder businesses in the city and will be held this year in a vacant office space managed by Douglas Allred Company. Come see how the Chamber transforms this location into a high-end event! </span></span></span><br />\n<br style="font-variant-ligatures:normal\;font-variant-caps:normal\;orphans:2\;text-align:start\;widows:2\;-webkit-text-stroke-width:0px\;text-decoration-thickness:initial\;text-decoration-style:initial\;word-spacing:0px\;" />\n<span style="font-family:arial\,sans-serif\;"><span style="font-size:10.0pt\;"><span style="background:white\;"><span style="font-variant-ligatures:normal\;font-variant-caps:normal\;orphans:2\;text-align:start\;widows:2\;-webkit-text-stroke-width:0px\;text-decoration-thickness:initial\;text-decoration-style:initial\;float:none\;word-spacing:0px\;">This year&rsquo\;s event will be nothing like you have seen before featuring The Taste of Chandler&reg\;\, entertainment and plenty of fun! If you are interested in participating\, see any of our team members for details.</span></span><br style="font-variant-ligatures:normal\;font-variant-caps:normal\;orphans:2\;text-align:start\;widows:2\;-webkit-text-stroke-width:0px\;text-decoration-thickness:initial\;text-decoration-style:initial\;word-spacing:0px\;" />\n<br style="font-variant-ligatures:normal\;font-variant-caps:normal\;orphans:2\;text-align:start\;widows:2\;-webkit-text-stroke-width:0px\;text-decoration-thickness:initial\;text-decoration-style:initial\;word-spacing:0px\;" />\n<span style="background:white\;"><span style="font-variant-ligatures:normal\;font-variant-caps:normal\;orphans:2\;text-align:start\;widows:2\;-webkit-text-stroke-width:0px\;text-decoration-thickness:initial\;text-decoration-style:initial\;float:none\;word-spacing:0px\;">Discover\, meet and be inspired by these amazing companies who have made Chandler their home.</span></span></span></span><br style="font-variant-ligatures:normal\;font-variant-caps:normal\;orphans:2\;text-align:start\;widows:2\;-webkit-text-stroke-width:0px\;text-decoration-thickness:initial\;text-decoration-style:initial\;word-spacing:0px\;" />\n<br style="font-variant-ligatures:normal\;font-variant-caps:normal\;orphans:2\;text-align:start\;widows:2\;-webkit-text-stroke-width:0px\;text-decoration-thickness:initial\;text-decoration-style:initial\;word-spacing:0px\;" />\nSponsorships still available! Contact Michelle&nbsp\;<a href="mailto:michelle@chandlerchamber.com">michelle@chandlerchamber.com</a><br />\n&nbsp\;
LOCATION:Douglas Allred Company Park Place (Entire Second Floor) 1233 S Spectrum Blvd Chandler\, AZ 85286
UID:e.1561.44342
SEQUENCE:3
DTSTAMP:20260423T200848Z
URL:https://business.chandlerchamber.com/events/details/chandler-100-state-of-the-business-community-44342
END:VEVENT

END:VCALENDAR
