BEGIN:VCALENDAR
VERSION:2.0
PRODID:-//ChamberMaster//Event Calendar 2.0//EN
METHOD:PUBLISH
X-PUBLISHED-TTL:P3D
REFRESH-INTERVAL:P3D
CALSCALE:GREGORIAN
BEGIN:VEVENT
DTSTART:20200321T150000Z
DTEND:20200321T220000Z
X-MICROSOFT-CDO-ALLDAYEVENT:FALSE
SUMMARY:Chandler American Little League-Opening Day Ceremonies
DESCRIPTION:We would be honored to have your support in our 2020 Opening Day Ceremonies on Saturday\, March 21\, 2020\, at Nozomi Baseball fields in Chandler\, Arizona. This day ushers in the start of the spring baseball season for Little Leaguers here in Chandler. Our day is filled with introductions to new teammates\, first season games\, food\, fun games for the kids\, and a great silent auction and many more fundraising opportunities. This year we welcome a fan favorite of the Arizona Diamondbacks\, the infamous and all too funny BAXTER!
X-ALT-DESC;FMTTYPE=text/html:We would be honored to have your support in our 2020 Opening Day Ceremonies on Saturday\, March 21\, 2020\, at Nozomi Baseball fields in Chandler\, Arizona. This day ushers in the start of the spring baseball season for Little Leaguers here in Chandler. Our day is filled with introductions to new teammates\, first season games\, food\, fun games for the kids\, and a great silent auction and many more fundraising opportunities. This year we welcome a fan favorite of the Arizona Diamondbacks\, the infamous and all too funny BAXTER!
LOCATION:250 S. Kyrene Rd. Chandler\, AZ 85226
UID:e.1561.38902
SEQUENCE:3
DTSTAMP:20260424T163737Z
URL:https://business.chandlerchamber.com/events/details/chandler-american-little-league-opening-day-ceremonies-38902
END:VEVENT

END:VCALENDAR
