BEGIN:VCALENDAR
VERSION:2.0
PRODID:-//ChamberMaster//Event Calendar 2.0//EN
METHOD:PUBLISH
X-PUBLISHED-TTL:P3D
REFRESH-INTERVAL:P3D
CALSCALE:GREGORIAN
BEGIN:VEVENT
DTSTART:20200804T190000Z
DTEND:20200804T200000Z
X-MICROSOFT-CDO-ALLDAYEVENT:FALSE
SUMMARY:Chandler Chamber Ambassador Committee Meeting
DESCRIPTION:Chandler Chamber Monthly Ambassador Committee Meeting\n\nVirtual Event\n\n12:00-1:00pm
X-ALT-DESC;FMTTYPE=text/html:Chandler Chamber Monthly Ambassador Committee Meeting<br />\nVirtual Event<br />\n12:00-1:00pm
LOCATION:
UID:e.1561.39206
SEQUENCE:3
DTSTAMP:20260424T213247Z
URL:https://business.chandlerchamber.com/events/details/chandler-chamber-ambassador-committee-meeting-39206
END:VEVENT

END:VCALENDAR
