BEGIN:VCALENDAR
VERSION:2.0
PRODID:-//ChamberMaster//Event Calendar 2.0//EN
METHOD:PUBLISH
X-PUBLISHED-TTL:P3D
REFRESH-INTERVAL:P3D
CALSCALE:GREGORIAN
BEGIN:VEVENT
DTSTART:20190709T190000Z
DTEND:20190709T200000Z
X-MICROSOFT-CDO-ALLDAYEVENT:FALSE
SUMMARY:Chandler Chamber Ambassador Meeting
DESCRIPTION:Join the Chandler Chamber Ambassadors at their monthly meeting
X-ALT-DESC;FMTTYPE=text/html:Join the Chandler Chamber Ambassadors at their monthly meeting&nbsp\;&nbsp\;&nbsp\;&nbsp\;
LOCATION:25 S Arizona Pl\, Suite 201 Chandler\, AZ 85225
UID:e.1561.35956
SEQUENCE:3
DTSTAMP:20260422T230853Z
URL:https://business.chandlerchamber.com/events/details/chandler-chamber-ambassador-meeting-35956
END:VEVENT

END:VCALENDAR
