BEGIN:VCALENDAR
VERSION:2.0
PRODID:-//ChamberMaster//Event Calendar 2.0//EN
METHOD:PUBLISH
X-PUBLISHED-TTL:P3D
REFRESH-INTERVAL:P3D
CALSCALE:GREGORIAN
BEGIN:VEVENT
DTSTART:20220201T190000Z
DTEND:20220201T200000Z
X-MICROSOFT-CDO-ALLDAYEVENT:FALSE
SUMMARY:Chandler Chamber Ambassador Meeting
DESCRIPTION:Monthly Chandler Chamber Ambassador Meeting @\n\nNOW Financial
X-ALT-DESC;FMTTYPE=text/html:Monthly Chandler Chamber Ambassador Meeting @<br />\n<strong>NOW Financial</strong>
LOCATION:NOW Financial 2450 S Gilbert Rd Chandler AZ 85286
UID:e.1561.40604
SEQUENCE:3
DTSTAMP:20260423T233255Z
URL:https://business.chandlerchamber.com/events/details/chandler-chamber-ambassador-meeting-40604
END:VEVENT

END:VCALENDAR
