BEGIN:VCALENDAR
VERSION:2.0
PRODID:-//ChamberMaster//Event Calendar 2.0//EN
METHOD:PUBLISH
X-PUBLISHED-TTL:P3D
REFRESH-INTERVAL:P3D
CALSCALE:GREGORIAN
BEGIN:VEVENT
DTSTART:20220301T190000Z
DTEND:20220301T200000Z
X-MICROSOFT-CDO-ALLDAYEVENT:FALSE
SUMMARY:Chandler Chamber Ambassador Monthly Meeting
DESCRIPTION:The monthly meeting for the Chandler Chamber Ambassadors will be at:\n\nNOW Financial \n\n2450 S Gilbert Rd\n\nChandler AZ 85286
X-ALT-DESC;FMTTYPE=text/html:The monthly meeting for the Chandler Chamber Ambassadors will be at:<br />\nNOW Financial&nbsp\;<br />\n2450 S Gilbert Rd<br />\nChandler AZ 85286
LOCATION:
UID:e.1561.40633
SEQUENCE:3
DTSTAMP:20260423T234555Z
URL:https://business.chandlerchamber.com/events/details/chandler-chamber-ambassador-monthly-meeting-40633
END:VEVENT

END:VCALENDAR
