BEGIN:VCALENDAR
VERSION:2.0
PRODID:-//ChamberMaster//Event Calendar 2.0//EN
METHOD:PUBLISH
X-PUBLISHED-TTL:P3D
REFRESH-INTERVAL:P3D
CALSCALE:GREGORIAN
BEGIN:VEVENT
DTSTART:20221206T160000Z
DTEND:20221206T200000Z
X-MICROSOFT-CDO-ALLDAYEVENT:FALSE
SUMMARY:Chandler Chamber Ambassador Retreat
DESCRIPTION:The monthly meeting for the Chandler Chamber Ambassadors
X-ALT-DESC;FMTTYPE=text/html:The monthly meeting for the Chandler Chamber Ambassadors&nbsp\;<br />\n<br />\n&nbsp\;
LOCATION:Chandler Pops 96 W Boston Street Chandler\, AZ 85225
UID:e.1561.40721
SEQUENCE:3
DTSTAMP:20260423T185019Z
URL:https://business.chandlerchamber.com/events/details/chandler-chamber-ambassador-retreat-12-06-2022-40721
END:VEVENT

END:VCALENDAR
