BEGIN:VCALENDAR
VERSION:2.0
PRODID:-//ChamberMaster//Event Calendar 2.0//EN
METHOD:PUBLISH
X-PUBLISHED-TTL:P3D
REFRESH-INTERVAL:P3D
CALSCALE:GREGORIAN
BEGIN:VEVENT
DTSTART:20171205T160000Z
DTEND:20171205T200000Z
X-MICROSOFT-CDO-ALLDAYEVENT:FALSE
SUMMARY:Chandler Chamber Ambassador Retreat
DESCRIPTION:Ambassador Retreat\n\nJoin the Chandler Chamber Ambassadors @ their annual retreat
X-ALT-DESC;FMTTYPE=text/html:<span style="color:#FF0000\;"><strong>Ambassador Retreat</strong></span><br />\nJoin the Chandler Chamber Ambassadors @ their annual retreat
LOCATION:Chandler Chamber of Commerce 25 S Arizona Pl\, Suite 201 Chandler\, AZ 85225
UID:e.1561.19214
SEQUENCE:3
DTSTAMP:20260424T011353Z
URL:https://business.chandlerchamber.com/events/details/chandler-chamber-ambassador-retreat-19214
END:VEVENT

END:VCALENDAR
