BEGIN:VCALENDAR
VERSION:2.0
PRODID:-//ChamberMaster//Event Calendar 2.0//EN
METHOD:PUBLISH
X-PUBLISHED-TTL:P3D
REFRESH-INTERVAL:P3D
CALSCALE:GREGORIAN
BEGIN:VEVENT
DTSTART:20141203T143000Z
DTEND:20141203T170000Z
X-MICROSOFT-CDO-ALLDAYEVENT:FALSE
SUMMARY:Chandler Chamber City Bus Tour - 12/03/14
DESCRIPTION:Chandler Chamber City Bus Tour\n\n\n\nWhat can be better then hopping in a bus for a tour narrated by Jane Poston from the Economic Development Department for the City of Chandler?\n\n\n\nOnce a year the Chandler Chamber has a City Bus Tour where you get to hear about all the upcoming projects and developments in your very own backyard.\n\n\n\nSeats are limited so register now and reserve your spot.\n\nThe bus will be leaving promptly at 8:00 a.m.
X-ALT-DESC;FMTTYPE=text/html:<div style="text-align: center\;"><u><strong>Chandler Chamber City Bus Tour</strong></u><br />\n<br />\nWhat can be better then hopping in a bus for a tour narrated by&nbsp\;Jane Poston from the&nbsp\;Economic Development Department for the City of Chandler?<br />\n<br />\nOnce a year the Chandler Chamber has a City Bus Tour where you get to hear about all the upcoming projects and developments in your very own backyard.<br />\n<br />\n<em>Seats are limited so register now and reserve your spot.</em><br />\n<strong>The bus will be leaving promptly at 8:00 a.m.</strong></div>\n
LOCATION:Brunchies 17 E Boston St Chandler\, AZ 85225 *Bus leaves at 8:00am
UID:e.1561.8177
SEQUENCE:3
DTSTAMP:20260426T033032Z
URL:https://business.chandlerchamber.com/events/details/chandler-chamber-city-bus-tour-12-03-14-8177
END:VEVENT

END:VCALENDAR
