BEGIN:VCALENDAR
VERSION:2.0
PRODID:-//ChamberMaster//Event Calendar 2.0//EN
METHOD:PUBLISH
X-PUBLISHED-TTL:P3D
REFRESH-INTERVAL:P3D
CALSCALE:GREGORIAN
BEGIN:VEVENT
DTSTART:20171130T143000Z
DTEND:20171130T180000Z
X-MICROSOFT-CDO-ALLDAYEVENT:FALSE
SUMMARY:Chandler Chamber City Bus Tour - 2017
DESCRIPTION:7:15 a.m. Registration\n\n7:30 a.m. Downtown Presentation\n\n8:00 a.m. Bus Leaves for Tour\n\n11:00 a.m. Bus Returns from Tour\n\n\n\nWhat can be better than hopping in a bus for a tour narrated by Micah Miranda and James Smith from the Economic Development Department for the City of Chandler?\n\n\n\nOnce a year the Chandler Chamber offers a City Bus Tour where you are privy to all the upcoming projects and developments in your own backyard.\n\n\n\nSeats are limited so register now and reserve your spot.\n\nThe bus will be leaving promptly at 8:00 a.m.
X-ALT-DESC;FMTTYPE=text/html:<div><strong>7:15&nbsp\;a.m. Registration<br />\n7:30 a.m. Downtown Presentation<br />\n8:00 a.m. Bus Leaves for Tour<br />\n11:00 a.m. Bus Returns from Tour</strong><br />\n<br />\nWhat can be better than hopping in a bus for a tour narrated by Micah Miranda and James Smith from the&nbsp\;Economic Development Department for the City of Chandler?<br />\n<br />\nOnce a year the Chandler Chamber offers a City Bus Tour where you are privy to&nbsp\;all the upcoming projects and developments in your&nbsp\;own backyard.<br />\n<br />\n<em>Seats are limited so register now and reserve your spot.</em><br />\n<strong>The bus will be leaving promptly at 8:00 a.m.</strong></div>\n
LOCATION:Chandler Chamber of Commerce 25 S. Arizona Place\, Suite 201 7:30 a.m.
UID:e.1561.19166
SEQUENCE:3
DTSTAMP:20260424T022540Z
URL:https://business.chandlerchamber.com/events/details/chandler-chamber-city-bus-tour-2017-19166
END:VEVENT

END:VCALENDAR
