BEGIN:VCALENDAR
VERSION:2.0
PRODID:-//ChamberMaster//Event Calendar 2.0//EN
METHOD:PUBLISH
X-PUBLISHED-TTL:P3D
REFRESH-INTERVAL:P3D
CALSCALE:GREGORIAN
BEGIN:VEVENT
DTSTART:20200707T190000Z
DTEND:20200707T200000Z
X-MICROSOFT-CDO-ALLDAYEVENT:FALSE
SUMMARY:Chandler Chamber Monthly Ambassador Meeting
DESCRIPTION:Chandler Chamber Ambassadors Monthly Meeting\n\nVirtual Zoom meeting\n\nFor information on attending as a guest\, please call the Chamber at\n\n480-963-4571
X-ALT-DESC;FMTTYPE=text/html:Chandler Chamber Ambassadors Monthly Meeting<br />\nVirtual Zoom meeting<br />\nFor information on attending as a guest\, please call the Chamber at<br />\n480-963-4571<br />\n&nbsp\;
LOCATION:
UID:e.1561.38998
SEQUENCE:3
DTSTAMP:20260424T194703Z
URL:https://business.chandlerchamber.com/events/details/chandler-chamber-monthly-ambassador-meeting-38998
END:VEVENT

END:VCALENDAR
