BEGIN:VCALENDAR
VERSION:2.0
PRODID:-//ChamberMaster//Event Calendar 2.0//EN
METHOD:PUBLISH
X-PUBLISHED-TTL:P3D
REFRESH-INTERVAL:P3D
CALSCALE:GREGORIAN
BEGIN:VEVENT
DTSTART:20200728T220000Z
DTEND:20200728T230000Z
X-MICROSOFT-CDO-ALLDAYEVENT:FALSE
SUMMARY:Chandler Chamber Monthly Virtual Leads Group Mixer
DESCRIPTION:Calling all Leads Group members! Please join us for our NEW Monthly Chandler Chamber Virtual Leads Group Mixer. We will be breaking out into breakout room for the opportunity to grow your network with other lead group members! Must be in good standing to participate! Want a chance to promote your business? Donate a door prizes! Contact mia@chandlerchamber.com for any question or if interested in donating a prize. Hope to see everyone there!
X-ALT-DESC;FMTTYPE=text/html:Calling all Leads Group members! Please join us for our NEW Monthly Chandler Chamber Virtual Leads Group Mixer. We will be breaking out into breakout room for the opportunity to grow your network with other lead group members! Must be in good standing to participate! Want a chance to promote your business? Donate a door prizes! Contact mia@chandlerchamber.com for any question or if interested in donating a prize. Hope to see everyone there!
LOCATION:Zoom https://us02web.zoom.us/j/83402117187?pwd=MDErS085WmRoOHJFM3hlTnBtWkRadz09 Meeting ID: 834 0211 7187 Passcode: Leads
UID:e.1561.39001
SEQUENCE:3
DTSTAMP:20260424T194406Z
URL:https://business.chandlerchamber.com/events/details/chandler-chamber-monthly-virtual-leads-group-mixer-39001
END:VEVENT

END:VCALENDAR
