BEGIN:VCALENDAR
VERSION:2.0
PRODID:-//ChamberMaster//Event Calendar 2.0//EN
METHOD:PUBLISH
X-PUBLISHED-TTL:P3D
REFRESH-INTERVAL:P3D
CALSCALE:GREGORIAN
BEGIN:VEVENT
DTSTART:20200825T230000Z
DTEND:20200826T000000Z
X-MICROSOFT-CDO-ALLDAYEVENT:FALSE
SUMMARY:Chandler Chamber Monthly Virtual Leads Group Mixer
DESCRIPTION:Calling all Leads Group members! Please join us for our NEW Monthly Chandler Chamber Virtual Leads Group Mixer. We will be breaking out into breakout room for the opportunity to grow your network with other lead group members! Must be in good standing to participate! Want a chance to promote your business? Donate a door prizes! Contact mia@chandlerchamber.com for any question or if interested in donating a prize. Hope to see everyone there!
X-ALT-DESC;FMTTYPE=text/html:Calling all Leads Group members! Please join us for our NEW Monthly Chandler Chamber Virtual Leads Group Mixer. We will be breaking out into breakout room for the opportunity to grow your network with other lead group members! Must be in good standing to participate! Want a chance to promote your business? Donate a door prizes! Contact mia@chandlerchamber.com for any question or if interested in donating a prize. Hope to see everyone there!
LOCATION:
UID:e.1561.39214
SEQUENCE:3
DTSTAMP:20260424T225358Z
URL:https://business.chandlerchamber.com/events/details/chandler-chamber-monthly-virtual-leads-group-mixer-39214
END:VEVENT

END:VCALENDAR
