BEGIN:VCALENDAR
VERSION:2.0
PRODID:-//ChamberMaster//Event Calendar 2.0//EN
METHOD:PUBLISH
X-PUBLISHED-TTL:P3D
REFRESH-INTERVAL:P3D
CALSCALE:GREGORIAN
BEGIN:VEVENT
DTSTART:20201103T143000Z
DTEND:20201103T153000Z
X-MICROSOFT-CDO-ALLDAYEVENT:FALSE
SUMMARY:Chandler Chamber Toastmaster
DESCRIPTION:The Chandler Chamber Toastmasters will take place every Tuesday from 7:30 am to 8:30 am via Zoom.
X-ALT-DESC;FMTTYPE=text/html:The Chandler Chamber Toastmasters will take place every Tuesday from 7:30 am to 8:30 am via Zoom.&nbsp\;
LOCATION:Zoom meeting. Please email chandlerchambertoastmater@gmail.com for more information and meeting link.
UID:e.1561.39236
SEQUENCE:3
DTSTAMP:20260424T211131Z
URL:https://business.chandlerchamber.com/events/details/chandler-chamber-toastmaster-11-03-2020-39236
END:VEVENT

END:VCALENDAR
