BEGIN:VCALENDAR
VERSION:2.0
PRODID:-//ChamberMaster//Event Calendar 2.0//EN
METHOD:PUBLISH
X-PUBLISHED-TTL:P3D
REFRESH-INTERVAL:P3D
CALSCALE:GREGORIAN
BEGIN:VEVENT
DTSTART:20180506T020000Z
DTEND:20180506T040000Z
X-MICROSOFT-CDO-ALLDAYEVENT:FALSE
SUMMARY:Chandler Children's Choir
DESCRIPTION:Chandler Children's Choir is wrapping up our 10th season\, and we are excited to present our final concert of the season\, "Let me Fly\," on May 5 at 7:00 p.m. This year's spring concert will be a very special celebration of ten years of beautiful music. Come on a journey with us\, as we remember CCC's beginnings and look toward our future. With special appearances by CCC alumni and the Prelude Choir members\, you're not going to want to miss this evening of children's choral music at its best. Do you have a child who loves to sing? We are holding new member auditions for our fall semester (August December\, 2018) on Saturday\, May 12\, 2018.
X-ALT-DESC;FMTTYPE=text/html:Chandler Children&#39\;s Choir is wrapping up our 10th season\, and we are excited to present our final concert of the season\, &quot\;Let me Fly\,&quot\; on May 5 at 7:00 p.m. This year&#39\;s spring concert will be a very special celebration of ten years of beautiful music. Come on a journey with us\, as we remember CCC&#39\;s beginnings and look toward our future. With special appearances by CCC alumni and the Prelude Choir members\, you&#39\;re not going to want to miss this evening of children&#39\;s choral music at its best. Do you have a child who loves to sing? We are holding new member auditions for our fall semester (August&ndash\;December\, 2018) on Saturday\, May 12\, 2018.
LOCATION:Chandler Center for the Arts
UID:e.1561.33620
SEQUENCE:3
DTSTAMP:20260423T191144Z
URL:https://business.chandlerchamber.com/events/details/chandler-children-s-choir-33620
END:VEVENT

END:VCALENDAR
