BEGIN:VCALENDAR
VERSION:2.0
PRODID:-//ChamberMaster//Event Calendar 2.0//EN
METHOD:PUBLISH
X-PUBLISHED-TTL:P3D
REFRESH-INTERVAL:P3D
CALSCALE:GREGORIAN
BEGIN:VEVENT
DTSTART:20150730T220000Z
DTEND:20150731T020000Z
X-MICROSOFT-CDO-ALLDAYEVENT:FALSE
SUMMARY:Chandler Farmer's Market
DESCRIPTION:The market offers fresh local produce\, prepared goods\, desserts and some crafts on select days. Please visit the website for more information. All items are grown in Arizona or are home-made from local vendors. For more information\, visit www.chandlerfarmersmarket.com.
X-ALT-DESC;FMTTYPE=text/html:The market offers fresh local produce\, prepared goods\, desserts and some crafts on select days. Please visit the website for more information. All items are grown in Arizona or are home-made from local vendors. For more information\, visit www.chandlerfarmersmarket.com.
LOCATION:Downtown Chandler
UID:e.1561.13137
SEQUENCE:3
DTSTAMP:20260425T202150Z
URL:https://business.chandlerchamber.com/events/details/chandler-farmer-s-market-07-30-2015-13137
END:VEVENT

END:VCALENDAR
