BEGIN:VCALENDAR
VERSION:2.0
PRODID:-//ChamberMaster//Event Calendar 2.0//EN
METHOD:PUBLISH
X-PUBLISHED-TTL:P3D
REFRESH-INTERVAL:P3D
CALSCALE:GREGORIAN
BEGIN:VEVENT
DTSTART:20180419T220000Z
DTEND:20180420T020000Z
X-MICROSOFT-CDO-ALLDAYEVENT:FALSE
SUMMARY:Chandler Farmers Market
DESCRIPTION:Find over 35 local vendors that include fantastic produce\, tamales\, hot sauces\, cooking sauces\, pasta\, salsas\, pastries\, sweets\, relishes\, honey\, cheese\, tea\, crafts\, natural beauty products\, soaps and much more
X-ALT-DESC;FMTTYPE=text/html:<span style="display: inline !important\; float: none\; background-color: transparent\; color: rgb(119\, 119\, 119)\; font-family: &quot\;proxima-nova&quot\;\; font-size: 14px\; font-style: normal\; font-variant: normal\; font-weight: 400\; letter-spacing: normal\; line-height: 22.4px\; orphans: 2\; text-align: left\; text-decoration: none\; text-indent: 0px\; text-transform: none\; -webkit-text-stroke-width: 0px\; white-space: normal\; word-spacing: 0px\; word-wrap: break-word\;">Find over 35 local vendors that include fantastic produce\, tamales\, hot sauces\, cooking sauces\, pasta\, salsas\,&nbsp\;pastries\, sweets\, relishes\, honey\, cheese\, tea\, crafts\, natural beauty products\, soaps and much more</span>
LOCATION:3 South Arizona Avenue Chandler\, AZ\, 85225 United States
UID:e.1561.33610
SEQUENCE:3
DTSTAMP:20260423T193715Z
URL:https://business.chandlerchamber.com/events/details/chandler-farmers-market-33610
END:VEVENT

END:VCALENDAR
