BEGIN:VCALENDAR
VERSION:2.0
PRODID:-//ChamberMaster//Event Calendar 2.0//EN
METHOD:PUBLISH
X-PUBLISHED-TTL:P3D
REFRESH-INTERVAL:P3D
CALSCALE:GREGORIAN
BEGIN:VEVENT
DTSTART;VALUE=DATE:20190508
DTEND;VALUE=DATE:20190601
TRANSP:TRANSPARENT
X-MICROSOFT-CDO-ALLDAYEVENT:TRUE
SUMMARY:Chandler Fashion Center Santa HQ Partnerships
DESCRIPTION:HGTV Presents Santa HQ at Chandler Fashion Center. Opportunities available for local partners to spend November and December with us and millions of shoppers! Packages and pricing vary. Let's customize an advertising and event partnership to promote your business this holiday season.
X-ALT-DESC;FMTTYPE=text/html:HGTV Presents Santa HQ at Chandler Fashion Center. Opportunities available for local partners to spend November and December with us and millions of shoppers! Packages and pricing vary. Let&#39\;s customize an advertising and event partnership to promote your business this holiday season.
LOCATION:Chandler Fashion Center
UID:e.1561.36711
SEQUENCE:3
DTSTAMP:20260423T021538Z
URL:https://business.chandlerchamber.com/events/details/chandler-fashion-center-santa-hq-partnerships-36711
END:VEVENT

END:VCALENDAR
