BEGIN:VCALENDAR
VERSION:2.0
PRODID:-//ChamberMaster//Event Calendar 2.0//EN
METHOD:PUBLISH
X-PUBLISHED-TTL:P3D
REFRESH-INTERVAL:P3D
CALSCALE:GREGORIAN
BEGIN:VEVENT
DTSTART:20251123T023000Z
DTEND:20251123T043000Z
X-MICROSOFT-CDO-ALLDAYEVENT:FALSE
SUMMARY:Chandler Ghost Walk
DESCRIPTION:Whispers on Boston Street   Ghost Walk- History. Hauntings. Hometown Secrets.\n\n\n\nStep beyond the charming storefronts and sunny sidewalks into the shadowy stories of Chandler's past on this 75-minute guided walking ghost tour\, starting and ending at Mic Drop Comedy Chandler.
X-ALT-DESC;FMTTYPE=text/html:<span style="color:#000000\;"><span style="font-size:16px\;"><span style="font-family:arial\;">&#128123\;&nbsp\;Whispers on Boston Street &ndash\; Ghost Walk- History. Hauntings. Hometown Secrets.<br />\n<br />\nStep beyond the charming storefronts and sunny sidewalks into the shadowy stories of Chandler&rsquo\;s past on this 75-minute guided walking ghost tour\, starting and ending at Mic Drop Comedy Chandler.</span></span></span>
LOCATION:Mic Drop Mania 51 East Boston Street Chandler\, Arizona 85225
UID:e.1561.51919
SEQUENCE:3
DTSTAMP:20260424T063632Z
URL:https://business.chandlerchamber.com/events/details/chandler-ghost-walk-51919
END:VEVENT

END:VCALENDAR
