BEGIN:VCALENDAR
VERSION:2.0
PRODID:-//ChamberMaster//Event Calendar 2.0//EN
METHOD:PUBLISH
X-PUBLISHED-TTL:P3D
REFRESH-INTERVAL:P3D
CALSCALE:GREGORIAN
BEGIN:VEVENT
DTSTART:20180115T183000Z
DTEND:20180116T050000Z
X-MICROSOFT-CDO-ALLDAYEVENT:FALSE
SUMMARY:Chandler International Film Festival
DESCRIPTION:The Chandler International Film Festival is a non-profit\, diverse and pioneering film festival located in Chandler\, Arizona. CIFFI is dedicated to the advancement of social and cultural awareness through education and delivered on the artistic platform of filmmaking.\n\n\n\n \n\n\n\nCIFFI will be screening over 150 films at this annual event and has teamed up with the City of Chandler in their multicultural festival! These unique\, creative and diverse films come from passionate\, independent global filmmakers bringing novel ideas and varied art forms to the craft. The star-studded\, four-day festival will include Red Carpet and Opening Ceremony on Friday\, Special World Premiere Shows\, Audience Choice Awards and Award Ceremony on Monday. Educational workshops will be presented by brilliant filmmakers. Exciting After Parties will be hosted at the Crown Plaza San Marcos Resort! Don't miss this amazing opportunity to connect with filmmakers and film executives\, network\, and most importantly\,to enjoy our selection of incredible films!
X-ALT-DESC;FMTTYPE=text/html:The Chandler International Film Festival is a non-profit\, diverse and pioneering film festival located in Chandler\, Arizona. CIFFI is dedicated to the advancement of social and cultural awareness through education and delivered on the artistic platform of filmmaking.<br />\n<br />\n&nbsp\;<br />\n<br />\nCIFFI will be screening over 150 films at this annual event and has teamed up with the City of Chandler in their multicultural festival! These unique\, creative and diverse films come from passionate\, independent global filmmakers bringing novel ideas and varied art forms to the craft. The star-studded\, four-day festival will include Red Carpet and Opening Ceremony on Friday\, Special World Premiere Shows\, Audience Choice Awards and Award Ceremony on Monday. Educational workshops will be presented by brilliant filmmakers. Exciting After Parties will be hosted at the Crown Plaza San Marcos Resort! Don&rsquo\;t miss this amazing opportunity to connect with filmmakers and film executives\, network\, and most importantly\,to enjoy our selection of incredible films!
LOCATION:San Marcos Resort 1 N San Marcos Pl Chandler\, AZ 85225
UID:e.1561.20492
SEQUENCE:3
DTSTAMP:20260423T233710Z
URL:https://business.chandlerchamber.com/events/details/chandler-international-film-festival-20492
END:VEVENT

END:VCALENDAR
