BEGIN:VCALENDAR
VERSION:2.0
PRODID:-//ChamberMaster//Event Calendar 2.0//EN
METHOD:PUBLISH
X-PUBLISHED-TTL:P3D
REFRESH-INTERVAL:P3D
CALSCALE:GREGORIAN
BEGIN:VEVENT
DTSTART:20180407T213000Z
DTEND:20180408T053000Z
X-MICROSOFT-CDO-ALLDAYEVENT:FALSE
SUMMARY:Chandler Jazz Festival
DESCRIPTION:19th Annual Chandler Jazz Festival\n\nFriday\, April 6 and Saturday\, April 7\, 2018\n\nDr. A.J. Chandler Park - Stage Plaza\n\n\n\n178 E. Commonwealth Ave \n\nFree Admission\n\n\n\nCome and enjoy a spectacular weekend of great Jazz in a variety of outdoor venues. All performances are free. While you enjoy many of the free performances you can also visit the galleries\, restaurants and shops that make Downtown Chandler a great place to visit. The downtown area has plenty of free parking available. And you may want to bring a blanket or lawn chair to enjoy the outdoor performances.
X-ALT-DESC;FMTTYPE=text/html:<span style="background-color: transparent\; color: rgb(0\, 0\, 0)\; font-family: Helvetica Neue\,Helvetica\,Arial\; font-size: 16px\; font-style: normal\; font-variant: normal\; font-weight: 400\; letter-spacing: normal\; orphans: 2\; text-align: left\; text-decoration: none\; text-indent: 0px\; text-transform: none\; -webkit-text-stroke-width: 0px\; white-space: normal\; word-spacing: 0px\;"><span class="MainHeadline" style="color: rgb(0\, 0\, 0)\; font-family: Helvetica Neue\,Helvetica\,Arial\; font-size: 19px\; font-weight: 700\;"><span style="font-size: 22px\;">19th Annual&nbsp\;</span><span style="font-size: 22px\;">Chandler Jazz Festival</span></span></span><br style="background-color: transparent\; color: rgb(0\, 0\, 0)\; font-family: Helvetica Neue\,Helvetica\,Arial\; font-size: 12px\; font-style: normal\; font-variant: normal\; font-weight: 400\; letter-spacing: normal\; orphans: 2\; text-align: left\; text-decoration: none\; text-indent: 0px\; text-transform: none\; -webkit-text-stroke-width: 0px\; white-space: normal\; word-spacing: 0px\;" />\n<span style="background-color: transparent\; color: rgb(0\, 128\, 128)\; font-family: Helvetica Neue\,Helvetica\,Arial\; font-size: 12px\; font-style: normal\; font-variant: normal\; font-weight: 400\; letter-spacing: normal\; orphans: 2\; text-align: left\; text-decoration: none\; text-indent: 0px\; text-transform: none\; -webkit-text-stroke-width: 0px\; white-space: normal\; word-spacing: 0px\;"><span style="font-size: 18px\;"><strong>Friday\, April 6 and Saturday\, April 7\, 2018</strong></span></span><br style="background-color: transparent\; color: rgb(0\, 0\, 0)\; font-family: Helvetica Neue\,Helvetica\,Arial\; font-size: 12px\; font-style: normal\; font-variant: normal\; font-weight: 400\; letter-spacing: normal\; orphans: 2\; text-align: left\; text-decoration: none\; text-indent: 0px\; text-transform: none\; -webkit-text-stroke-width: 0px\; white-space: normal\; word-spacing: 0px\;" />\n<span style="background-color: transparent\; color: rgb(0\, 128\, 128)\; font-family: Helvetica Neue\,Helvetica\,Arial\; font-size: 12px\; font-style: normal\; font-variant: normal\; font-weight: 400\; letter-spacing: normal\; orphans: 2\; text-align: left\; text-decoration: none\; text-indent: 0px\; text-transform: none\; -webkit-text-stroke-width: 0px\; white-space: normal\; word-spacing: 0px\;"><span style="font-size: 18px\;"><strong>Dr. A.J. Chandler Park - Stage Plaza<br />\n<br />\n178 E. Commonwealth Ave </strong></span></span><br style="background-color: transparent\; color: rgb(0\, 0\, 0)\; font-family: Helvetica Neue\,Helvetica\,Arial\; font-size: 12px\; font-style: normal\; font-variant: normal\; font-weight: 400\; letter-spacing: normal\; orphans: 2\; text-align: left\; text-decoration: none\; text-indent: 0px\; text-transform: none\; -webkit-text-stroke-width: 0px\; white-space: normal\; word-spacing: 0px\;" />\n<span style="background-color: transparent\; color: rgb(0\, 0\, 0)\; font-family: Helvetica Neue\,Helvetica\,Arial\; font-size: 18px\; font-style: normal\; font-variant: normal\; font-weight: 400\; letter-spacing: normal\; orphans: 2\; text-align: left\; text-decoration: none\; text-indent: 0px\; text-transform: none\; -webkit-text-stroke-width: 0px\; white-space: normal\; word-spacing: 0px\;"><strong><span style="color: rgb(0\, 128\, 128)\;">Free Admission</span></strong></span><br style="background-color: transparent\; color: rgb(0\, 0\, 0)\; font-family: Helvetica Neue\,Helvetica\,Arial\; font-size: 12px\; font-style: normal\; font-variant: normal\; font-weight: 400\; letter-spacing: normal\; orphans: 2\; text-align: left\; text-decoration: none\; text-indent: 0px\; text-transform: none\; -webkit-text-stroke-width: 0px\; white-space: normal\; word-spacing: 0px\;" />\n<br style="background-color: transparent\; color: rgb(0\, 0\, 0)\; font-family: Helvetica Neue\,Helvetica\,Arial\; font-size: 12px\; font-style: normal\; font-variant: normal\; font-weight: 400\; letter-spacing: normal\; orphans: 2\; text-align: left\; text-decoration: none\; text-indent: 0px\; text-transform: none\; -webkit-text-stroke-width: 0px\; white-space: normal\; word-spacing: 0px\;" />\n<span style="background-color: transparent\; color: rgb(0\, 0\, 0)\; font-family: Helvetica Neue\,Helvetica\,Arial\; font-size: 14px\; font-style: normal\; font-variant: normal\; font-weight: 400\; letter-spacing: normal\; orphans: 2\; text-align: left\; text-decoration: none\; text-indent: 0px\; text-transform: none\; -webkit-text-stroke-width: 0px\; white-space: normal\; word-spacing: 0px\;">Come and enjoy a spectacular weekend of great Jazz in a variety of outdoor venues. All performances are free.&nbsp\;While you enjoy many of the free performances you can also visit the galleries\, restaurants and shops that make Downtown Chandler a great place to visit. The downtown area has plenty of free parking available. And you may want to bring a blanket or lawn chair to enjoy the outdoor performances.</span>
LOCATION:Dr. A.J. Chandler Park - Stage Plaza 178 E. Commonwealth Ave
UID:e.1561.32607
SEQUENCE:3
DTSTAMP:20260423T210430Z
URL:https://business.chandlerchamber.com/events/details/chandler-jazz-festival-32607
END:VEVENT

END:VCALENDAR
