BEGIN:VCALENDAR
VERSION:2.0
PRODID:-//ChamberMaster//Event Calendar 2.0//EN
METHOD:PUBLISH
X-PUBLISHED-TTL:P3D
REFRESH-INTERVAL:P3D
CALSCALE:GREGORIAN
BEGIN:VEVENT
DTSTART:20171012T003000Z
DTEND:20171012T030000Z
X-MICROSOFT-CDO-ALLDAYEVENT:FALSE
SUMMARY:Chandler Leadership Institute Graduation Dinner 2017
DESCRIPTION:Chandler Chamber Community Foundation Leadership Institute Graduation\n\nClass 33 & Class 34 are invited to attend the graduation dinner and ceremony
X-ALT-DESC;FMTTYPE=text/html:Chandler Chamber Community Foundation Leadership Institute Graduation<br />\nClass 33 &amp\; Class 34 are invited to attend the graduation dinner and ceremony
LOCATION:Iron Oaks at Sun Lakes 24218 S. Oakwood Blvd. Sun Lakes\, AZ 85248
UID:e.1561.19187
SEQUENCE:3
DTSTAMP:20260424T035215Z
URL:https://business.chandlerchamber.com/events/details/chandler-leadership-institute-graduation-dinner-2017-19187
END:VEVENT

END:VCALENDAR
