BEGIN:VCALENDAR
VERSION:2.0
PRODID:-//ChamberMaster//Event Calendar 2.0//EN
METHOD:PUBLISH
X-PUBLISHED-TTL:P3D
REFRESH-INTERVAL:P3D
CALSCALE:GREGORIAN
BEGIN:VEVENT
DTSTART:20200307T160000Z
DTEND:20200307T200000Z
X-MICROSOFT-CDO-ALLDAYEVENT:FALSE
SUMMARY:Chandler Public Safety Fair and Classic Kar Show
DESCRIPTION:Join us for free family fun. Enjoy department tours\, CPR training\, hands-on safety training\, child fingerprinting\, car and community vendors\, food trucks\, and more.
X-ALT-DESC;FMTTYPE=text/html:Join us for free family fun. Enjoy department tours\, CPR training\, hands-on safety training\, child fingerprinting\, car and community vendors\, food trucks\, and more.
LOCATION:Chandler Police Department - Main Station - 250 E Chicago St.
UID:e.1561.38889
SEQUENCE:3
DTSTAMP:20260424T163559Z
URL:https://business.chandlerchamber.com/events/details/chandler-public-safety-fair-and-classic-kar-show-38889
END:VEVENT

END:VCALENDAR
