BEGIN:VCALENDAR
VERSION:2.0
PRODID:-//ChamberMaster//Event Calendar 2.0//EN
METHOD:PUBLISH
X-PUBLISHED-TTL:P3D
REFRESH-INTERVAL:P3D
CALSCALE:GREGORIAN
BEGIN:VEVENT
DTSTART:20180709T143000Z
DTEND:20180709T193000Z
X-MICROSOFT-CDO-ALLDAYEVENT:FALSE
SUMMARY:Chandler Regional MedCtr Blood Drive
DESCRIPTION:Visit www.BloodHero.com code: blood drive or call 1-877-UBS-HERO (1-877-827-4376) . to schedule blood donation. Rebuild blood supply after July Fourth holiday week for CRMC and every hospital in Maricopa County. Use Out Patient entrance on south side. Take elevator just past gift shop to lower level. Turn left to blood drive.
X-ALT-DESC;FMTTYPE=text/html:Visit www.BloodHero.com code: blood drive or call 1-877-UBS-HERO (1-877-827-4376) . to schedule blood donation. Rebuild blood supply after July Fourth holiday week for CRMC and every hospital in Maricopa County. Use Out Patient entrance on south side. Take elevator just past gift shop to lower level. Turn left to blood drive.
LOCATION:1955 W Frye Road 85224 Use Out Patient entrance on south side. Take elevator just past gift shop to lower level. Turn left to blood drive.
UID:e.1561.32571
SEQUENCE:3
DTSTAMP:20260423T150901Z
URL:https://business.chandlerchamber.com/events/details/chandler-regional-medctr-blood-drive-32571
END:VEVENT

END:VCALENDAR
