BEGIN:VCALENDAR
VERSION:2.0
PRODID:-//ChamberMaster//Event Calendar 2.0//EN
METHOD:PUBLISH
X-PUBLISHED-TTL:P3D
REFRESH-INTERVAL:P3D
CALSCALE:GREGORIAN
BEGIN:VEVENT
DTSTART:20190428T010000Z
DTEND:20190428T130000Z
X-MICROSOFT-CDO-ALLDAYEVENT:FALSE
SUMMARY:Chandler Relay for Life
DESCRIPTION:Saddle on up and mosey on over for an event-filled evening for all those who want to give cancer the boot! Opening Ceremony and Survivor Lap at 6 pm. Luminaria lap at 9:30 pm. Staying until 6 am is optional but there will be many fun activities and laps around the track at Basha High School. Western Wear is Encouraged. The chamber has a team with Greg Mattern as captain. Look for Chandler Chamber Footsteps for Friends at www.relayforlife.org/chandleraz.
X-ALT-DESC;FMTTYPE=text/html:Saddle on up and mosey on over for an event-filled evening for all those who want to give cancer the boot! Opening Ceremony and Survivor Lap at 6 pm. Luminaria lap at 9:30 pm. Staying until 6 am is optional but there will be many fun activities and laps around the track at Basha High School. Western Wear is Encouraged. The chamber has a team with Greg Mattern as captain. Look for Chandler Chamber Footsteps for Friends at www.relayforlife.org/chandleraz.
LOCATION:Basha High School\, 5990 S Val Vista Dr\, Chandler\, AZ 85249
UID:e.1561.36308
SEQUENCE:3
DTSTAMP:20260423T033340Z
URL:https://business.chandlerchamber.com/events/details/chandler-relay-for-life-04-27-2019-36308
END:VEVENT

END:VCALENDAR
