BEGIN:VCALENDAR
VERSION:2.0
PRODID:-//ChamberMaster//Event Calendar 2.0//EN
METHOD:PUBLISH
X-PUBLISHED-TTL:P3D
REFRESH-INTERVAL:P3D
CALSCALE:GREGORIAN
BEGIN:VEVENT
DTSTART:20180505T010000Z
DTEND:20180505T130000Z
X-MICROSOFT-CDO-ALLDAYEVENT:FALSE
SUMMARY:Chandler Relay for Life
DESCRIPTION:Relay for Life is the American Cancer Society's signature event that offers everyone in the community an opportunity to participate in the fight against cancer. Relay for Life is an overnight event\, but staying the night is optional. Teams have fun while raising much-needed funds to fight cancer\, and raise awareness of cancer prevention and treatment. Relay for Life brings together millions of people from all walks of life: friends\, family\, coworkers--all with the common goal of eliminating cancer. The Chamber has a team this year: Chandler Chamber Force Be With You under team captain\, Greg Mattern. Come\, join us in the fight against cancer!
X-ALT-DESC;FMTTYPE=text/html:Relay for Life is the American Cancer Society&#39\;s signature event that offers everyone in the community an opportunity to participate in the fight against cancer. Relay for Life is an overnight event\, but staying the night is optional. Teams have fun while raising much-needed funds to fight cancer\, and raise awareness of cancer prevention and treatment. Relay for Life brings together millions of people from all walks of life: friends\, family\, coworkers--all with the common goal of eliminating cancer. The Chamber has a team this year: Chandler Chamber Force Be With You under team captain\, Greg Mattern. Come\, join us in the fight against cancer!
LOCATION:Basha High School\, 5990 S Val Vista Dr\, Chandler\, AZ 85249
UID:e.1561.20956
SEQUENCE:3
DTSTAMP:20260423T180814Z
URL:https://business.chandlerchamber.com/events/details/chandler-relay-for-life-20956
END:VEVENT

END:VCALENDAR
