BEGIN:VCALENDAR
VERSION:2.0
PRODID:-//ChamberMaster//Event Calendar 2.0//EN
METHOD:PUBLISH
X-PUBLISHED-TTL:P3D
REFRESH-INTERVAL:P3D
CALSCALE:GREGORIAN
BEGIN:VEVENT
DTSTART:20190324T220000Z
DTEND:20190324T230000Z
X-MICROSOFT-CDO-ALLDAYEVENT:FALSE
SUMMARY:Chandler Symphony Classical Series: Romance Near and Far
DESCRIPTION:Chuck Stewart\, Guest Conductor\n\nThis season\, CSO is auditioning for a new Music Director\, to replace our founder and Music Director Jack Herriman following his retirement. Each candidate has chosen his own program and at the end of the season\, all will be evaluated with the goal of appointing a new Music Director to lead the orchestra. Join us to see and hear this varied\, exciting concert lineup!\n\n\n	\n	White: Acadia Fanfare\n	\n	\n	Liebermann: Concerto for Flute\, Harp and Orchestra\, Op. 48 \n\n	Lisa Tharp\, flute\, Pamela Hahn\, harp\n	\n	\n	Dvorak: Slavonic Dances No. 2 & 8\n	\n	\n	Dvorak: Symphony No. 8\n	\n\n\nAll concerts are FREE \n\nSuggested Donations: $5/child\, $10/adult\, $15/family\n\nSeating on a first come\, first served basis. No tickets required.\n\nFor more information\, please visit the website at https://chandlercenter.org/events/search/classical-music/39-cso-classic
X-ALT-DESC;FMTTYPE=text/html:<p style="font-family: Raleway\; line-height: 1.4em\; font-size: 15px\; margin: 0px 0px 1em\; overflow-wrap: break-word\; color: rgb(5\, 5\, 5)\; background-color: rgb(252\, 252\, 252)\; white-space: pre-wrap\;"><strong style="overflow-wrap: break-word\;">Chuck Stewart</strong>\,&nbsp\;<em style="overflow-wrap: break-word\;">Guest Conductor</em></p>\n\n<p style="font-family: Raleway\; line-height: 1.4em\; font-size: 15px\; margin: 0px 0px 1em\; overflow-wrap: break-word\; color: rgb(5\, 5\, 5)\; background-color: rgb(252\, 252\, 252)\; white-space: pre-wrap\;">This season\, CSO is auditioning for a new Music Director\, to replace our founder and Music Director Jack Herriman following his retirement. Each candidate has chosen his own program and at the end of the season\, all will be evaluated with the goal of appointing a new Music Director to lead the orchestra. Join us to see and hear this varied\, exciting concert lineup!</p>\n\n<ul data-rte-list="default" id="yui_3_17_2_1_1545934807391_222" style="margin: 1em 0px\; padding: 0px 0px 0px 40px\; font-family: Raleway\; line-height: 1.4em\; font-size: 15px\; overflow-wrap: break-word\; color: rgb(5\, 5\, 5)\; background-color: rgb(252\, 252\, 252)\;">\n	<li style="list-style-type: none\; overflow-wrap: break-word\;">\n	<p style="line-height: 1.4em\; margin: 0.5em 0px\; overflow-wrap: break-word\; white-space: pre-wrap\;">White:&nbsp\;<em style="overflow-wrap: break-word\;">Acadia Fanfare</em></p>\n	</li>\n	<li style="list-style-type: none\; overflow-wrap: break-word\;">\n	<p style="line-height: 1.4em\; margin: 0.5em 0px\; overflow-wrap: break-word\; white-space: pre-wrap\;">Liebermann:&nbsp\;<em style="overflow-wrap: break-word\;">Concerto for Flute\, Harp and Orchestra\, Op. 48</em>&nbsp\;<br style="overflow-wrap: break-word\;" />\n	Lisa Tharp\, flute\, Pamela Hahn\, harp</p>\n	</li>\n	<li id="yui_3_17_2_1_1545934807391_221" style="list-style-type: none\; overflow-wrap: break-word\;">\n	<p id="yui_3_17_2_1_1545934807391_220" style="line-height: 1.4em\; margin: 0.5em 0px\; overflow-wrap: break-word\; white-space: pre-wrap\;">Dvorak:&nbsp\;<em style="overflow-wrap: break-word\;">Slavonic Dances No. 2 &amp\; 8</em></p>\n	</li>\n	<li style="list-style-type: none\; overflow-wrap: break-word\;">\n	<p style="line-height: 1.4em\; margin: 0.5em 0px\; overflow-wrap: break-word\; white-space: pre-wrap\;">Dvorak:&nbsp\;<em style="overflow-wrap: break-word\;">Symphony No. 8</em></p>\n	</li>\n</ul>\n\n<p style="font-family: Raleway\; line-height: 1.4em\; font-size: 15px\; margin: 0px 0px 1em\; overflow-wrap: break-word\; color: rgb(5\, 5\, 5)\; background-color: rgb(252\, 252\, 252)\; white-space: pre-wrap\;"><strong style="overflow-wrap: break-word\;">All concerts are FREE</strong>&nbsp\;<br style="overflow-wrap: break-word\;" />\n<strong style="overflow-wrap: break-word\;">Suggested Donations: $5/child\, $10/adult\, $15/family</strong><br style="overflow-wrap: break-word\;" />\n<em style="overflow-wrap: break-word\;">Seating on a first come\, first served basis. No tickets required.</em></p>\n\n<p style="font-family: Raleway\; line-height: 1.4em\; font-size: 15px\; margin: 0px\; overflow-wrap: break-word\; color: rgb(5\, 5\, 5)\; background-color: rgb(252\, 252\, 252)\; white-space: pre-wrap\;"><strong style="overflow-wrap: break-word\;">For more information\, please visit the website at </strong>https://chandlercenter.org/events/search/classical-music/39-cso-classic</p>\n
LOCATION:
UID:e.1561.36120
SEQUENCE:3
DTSTAMP:20260423T045626Z
URL:https://business.chandlerchamber.com/events/details/chandler-symphony-classical-series-romance-near-and-far-36120
END:VEVENT

END:VCALENDAR
