BEGIN:VCALENDAR
VERSION:2.0
PRODID:-//ChamberMaster//Event Calendar 2.0//EN
METHOD:PUBLISH
X-PUBLISHED-TTL:P3D
REFRESH-INTERVAL:P3D
CALSCALE:GREGORIAN
BEGIN:VEVENT
DTSTART:20220702T220000Z
DTEND:20220703T000000Z
X-MICROSOFT-CDO-ALLDAYEVENT:FALSE
SUMMARY:Chandler Symphony Orchestra
DESCRIPTION:Never fear\, Procrastinators! Tickets are still available online for our patriotic fundraising concert.  CSO\, under the baton of guest conductor Martin Province\, will bring you a family-friendly concert of some of your patriotic favorites. Special guest artist\, soprano Monika Beauvais Landi will add the beautiful lyrics and lead you when it's your turn to sing along.
X-ALT-DESC;FMTTYPE=text/html:<strong><em><span style="color:#202020\;"><span style="font-family:arial\,sans-serif\;"><span style="font-size:10.5pt\;">Never fear\, Procrastinators!</span></span></span></em></strong><span style="color:#202020\;"><span style="font-family:arial\,sans-serif\;"><span style="font-size:10.5pt\;"> Tickets are still available online for our patriotic fundraising concert.&nbsp\;</span></span></span><span style="color:#202020\;"><span style="font-family:arial\,sans-serif\;"><span style="font-size:10.5pt\;">&nbsp\;CSO\, under the baton of <strong>guest conductor Martin Province\,</strong> will bring you a family-friendly concert of some of your patriotic favorites. Special guest artist\, soprano <strong>Monika Beauvais Landi </strong>will add the beautiful lyrics and lead you when it&#39\;s your turn to sing along.&nbsp\;</span></span></span>
LOCATION:Risen Savior Lutheran Church Worship Center 23620 S. Alma School Rd Chandler\, Az 85248
UID:e.1561.41034
SEQUENCE:3
DTSTAMP:20260423T191012Z
URL:https://business.chandlerchamber.com/events/details/chandler-symphony-orchestra-41034
END:VEVENT

END:VCALENDAR
