BEGIN:VCALENDAR
VERSION:2.0
PRODID:-//ChamberMaster//Event Calendar 2.0//EN
METHOD:PUBLISH
X-PUBLISHED-TTL:P3D
REFRESH-INTERVAL:P3D
CALSCALE:GREGORIAN
BEGIN:VEVENT
DTSTART:20180218T000000Z
DTEND:20180218T050000Z
X-MICROSOFT-CDO-ALLDAYEVENT:FALSE
SUMMARY:Chandler Symphony Orchestra Silver Anniversary Gala Dinner Dance
DESCRIPTION:Join the Chandler Symphony Orchestra for a special evening to celebrate 25 years of classical music in Chandler at Oakwood Country Club. Attendees at the gala will be treated to a scrumptious three-course meal\, dancing with music provided by eight-piece big band D j  Vu\, and complimentary photo booth to capture the evening. Cocktail hour starts at 5 p.m. with a cash bar\, with music provided by the CSO String Quartet. A silent auction will take place during the gala. Cocktail attire\, black tie optional. Tickets are $80 per person. Purchase your ticket at any CSO concert or online at chandlersymphony.com.
X-ALT-DESC;FMTTYPE=text/html:Join the Chandler Symphony Orchestra for a special evening to celebrate 25 years of classical music in Chandler at Oakwood Country Club. Attendees at the gala will be treated to a scrumptious three-course meal\, dancing with music provided by eight-piece big band D&eacute\;j&agrave\; Vu\, and complimentary photo booth to capture the evening. Cocktail hour starts at 5 p.m. with a cash bar\, with music provided by the CSO String Quartet. A silent auction will take place during the gala. Cocktail attire\, black tie optional. Tickets are $80 per person. Purchase your ticket at any CSO concert or online at chandlersymphony.com.
LOCATION:Oakwood Country Club Ballroom\, IronOaks at Sun Lakes\, 24218 S. Oakwood Blvd.
UID:e.1561.20277
SEQUENCE:3
DTSTAMP:20260423T215840Z
URL:https://business.chandlerchamber.com/events/details/chandler-symphony-orchestra-silver-anniversary-gala-dinner-dance-20277
END:VEVENT

END:VCALENDAR
