BEGIN:VCALENDAR
VERSION:2.0
PRODID:-//ChamberMaster//Event Calendar 2.0//EN
METHOD:PUBLISH
X-PUBLISHED-TTL:P3D
REFRESH-INTERVAL:P3D
CALSCALE:GREGORIAN
BEGIN:VEVENT
DTSTART:20170811T000000Z
DTEND:20170811T020000Z
X-MICROSOFT-CDO-ALLDAYEVENT:FALSE
SUMMARY:Chandler Young Executives at Meridiem Kitchen and Lounge
DESCRIPTION:Social Networking Event to allow young professionals to connect and mingle.
X-ALT-DESC;FMTTYPE=text/html:<span style="color: rgb(51\, 51\, 51)\; font-family: sans-serif\, Arial\, Verdana\, &quot\;Trebuchet MS&quot\;\; font-size: 13px\; background-color: rgb(255\, 255\, 255)\;">Social Networking Event to allow young professionals to connect and mingle.</span>
LOCATION:Meridiem Kitchen & Lounge 1245 S Price Rd #1 Chandler\, AZ 85286
UID:e.1561.17660
SEQUENCE:3
DTSTAMP:20260424T064002Z
URL:https://business.chandlerchamber.com/events/details/chandler-young-executives-at-meridiem-kitchen-and-lounge-17660
END:VEVENT

END:VCALENDAR
