BEGIN:VCALENDAR
VERSION:2.0
PRODID:-//ChamberMaster//Event Calendar 2.0//EN
METHOD:PUBLISH
X-PUBLISHED-TTL:P3D
REFRESH-INTERVAL:P3D
CALSCALE:GREGORIAN
BEGIN:VEVENT
DTSTART:20171103T000000Z
DTEND:20171103T020000Z
X-MICROSOFT-CDO-ALLDAYEVENT:FALSE
SUMMARY:Chandler Young Executives at Otaku Sushi
DESCRIPTION:Chandler Chamber Young Executives are at Otaku Sushi for great sushi\, great sake and a great time!  Join us and grow your business!
X-ALT-DESC;FMTTYPE=text/html:<span style="color: rgb(51\, 51\, 51)\; font-family: sans-serif\, Arial\, Verdana\, &quot\;Trebuchet MS&quot\;\; font-size: 13px\; background-color: rgb(255\, 255\, 255)\;">Chandler Chamber Young Executives are at Otaku Sushi for great sushi\, great sake and a great time!&nbsp\; Join us and grow your business!</span>
LOCATION:Otaku Sushi 2430 S Gilbert Rd\, #5 Chandler\, AZ 85286
UID:e.1561.17663
SEQUENCE:3
DTSTAMP:20260424T022427Z
URL:https://business.chandlerchamber.com/events/details/chandler-young-executives-at-otaku-sushi-17663
END:VEVENT

END:VCALENDAR
